BEGIN:VCALENDAR
VERSION:2.0
PRODID:-//wp-events-plugin.com//7.2.3.1//EN
TZID:Europe/Vienna
X-WR-TIMEZONE:Europe/Vienna
BEGIN:VEVENT
UID:265@heilsamessingen.elloco.at
DTSTART;TZID=Europe/Berlin:20220616T200000
DTEND;TZID=Europe/Berlin:20220616T210000
DTSTAMP:20220607T160948Z
URL:https://www.heilsamessingen.elloco.at/events/singen-fuer-den-frieden-1
 4/
SUMMARY:Singen für den Frieden
DESCRIPTION:\nWer singt\, hat keine Angst. Stärken wir das angstfreie Feld
  des Friedens. Verbinden wir uns mit allen betroffenen Menschen in Mitgef
 ühl. Besingen wir unsere Menschenfamilie in der Ukraine\, in Russland und
  auf der gesamten Welt! .\nWir treffen uns ab 10. März jede Woche am Donn
 erstag von 19 bis 20 Uhr per Zoom und verbinden uns singend mit der Kraft 
 des Friedens. .\nSingkreisleiter:innen aus Österreich und Deutschland wer
 den abwechselnd die Abende gestalten.\nHier der Link ab MAI 2022\, 20-21 U
 hr\n\nhttps://us02web.zoom.us/j/89652278373?pwd=ZStoU2NzaldhbklNNU9DcGt6bE
 Vadz09\nMeeting-ID: 896 5227 8373 Kenncode: 929452\n\n\n 	Do 07. April:Day
 a Sea\,www.singdichfrei.at\n 	Do 14. April: Maya MariaTilg\,www.mayatilg.a
 t\n 	Do 21. April: MartinavomHövel\,www.martinavomhoevel.de\n 	Do 28. Apr
 il:Brigitte Schmitz\,www.chanting.de\n 	Do 05. Mai:Sybille Mikulawww.singd
 ichgesund.atAnneliese Jagarinec-Friedl\n\nEventuell kommt ab hier ein neue
 r Link\, bitte behaltet es im Auge:\n\n\n 	Do 12. Mai:Hagara Feinbier\,www
 .come-together-songs.de\n 	Do 19. Mai:Christa Kasehs\, www.christakasehs.a
 t\n 	Do 26. Mai:Bernhard Schöpfer\,www.elloco.at\n 	Do 02. Juni: Ruth Kü
 pper\, www.nanda-chanting.de\n 	Do 09. Juni: Anne Tscharmann\,www.maeterra
 .at\, www.ritualsongs.at\n 	Do 16. Juni: Christian Bollmann\,www.lichthaus
 -musik.de\n 	Do 23. Juni:Gerhard Hajny\,www.mylifeismusicandmore.at\n 	Do 
 30. Juni:Regine Steffens\, www.Regine-Steffens.de\n 	Do 07. Juli: Arunga H
 eiden\,www.arunga-heiden.de\n\nWir geben unsere Singfreude\, Zeit und Bege
 isterung in die Gemeinschaft der Singenden als unseren Beitrag für das Fr
 iedensfeld. Du trägst sie in dein Feld weiter.\nWir freuen uns\, wenn du 
 deinen finanziellen Energieausgleich für eine Organisation gibst\, die si
 ch um die Unterstützung der ukrainischen Bevölkerung kümmert. Wir haben
  unsere Konten bei Zoom aufgestockt\, damit so viele Menschen wie möglich
 \nteilnehmen können. Das war für die Zeit von März bis Anfang Juli 2022
  mit Kosten von\nca. € 200\,- verbunden. Wir bitten euch deshalb\, eure 
 weiteren Spenden auf das\nSingDichGesund-Konto zu überweisen: BAWAG PSK -
  IBAN: AT91 14000 05010 286 273.\nDann können wir die verauslagten Beträ
 ge an die betreffenden SingleiterInnen\nzurückzahlen und den Rest überwe
 isen wir an die Hilfsorganisationen. Alle SingleiterInnen\nsingen natürli
 ch ohne "Gage"\, aber sie sollen nicht zusätzliche Kosten haben.\nWir lad
 en dich ein\, großzügig aus deiner Fülle zu geben!\nFalls du Fragen has
 t wende dich gern an das Organisationsteam. Um von den jeweiligen Singkrei
 sleitenden den Newsletter zu beziehen\, melde dich über ihre Website an.\
 nDanke für deinen Beitrag! Gemeinsam nähren wir das Feld des Friedens!\n
 Anne Tscharmann\, office@maeterra.at\, www.maeterra.at\, www.ritualsongs.a
 t\nSabine Bevendorff\, kontakt@sabinebevendorff.de\, www.sabinebevendorff.
 de\nSybille Mikula\, office@singdichgesund.at\, www.singdichgesund.at
ATTACH;FMTTYPE=image/jpeg:https://www.heilsamessingen.elloco.at/wp-content
 /uploads/2022/03/friedenssingen.png
CATEGORIES:Singen für den Frieden
LOCATION:Live Stream Zoom\, Live\, Stream\, Österreich
X-APPLE-STRUCTURED-LOCATION;VALUE=URI;X-ADDRESS=Live\, Stream\, Österreich
 ;X-APPLE-RADIUS=100;X-TITLE=Live Stream Zoom:geo:0,0
END:VEVENT
BEGIN:VTIMEZONE
TZID:Europe/Berlin
X-LIC-LOCATION:Europe/Berlin
BEGIN:DAYLIGHT
DTSTART:20220327T030000
TZOFFSETFROM:+0100
TZOFFSETTO:+0200
TZNAME:CEST
END:DAYLIGHT
END:VTIMEZONE
END:VCALENDAR